BEGIN:VCALENDAR
VERSION:2.0
PRODID:-//bioPmed - ECPv6.15.20//NONSGML v1.0//EN
CALSCALE:GREGORIAN
METHOD:PUBLISH
X-ORIGINAL-URL:https://biopmed.eu
X-WR-CALDESC:Eventi per bioPmed
REFRESH-INTERVAL;VALUE=DURATION:PT1H
X-Robots-Tag:noindex
X-PUBLISHED-TTL:PT1H
BEGIN:VTIMEZONE
TZID:Europe/Rome
BEGIN:DAYLIGHT
TZOFFSETFROM:+0100
TZOFFSETTO:+0200
TZNAME:CEST
DTSTART:20250330T010000
END:DAYLIGHT
BEGIN:STANDARD
TZOFFSETFROM:+0200
TZOFFSETTO:+0100
TZNAME:CET
DTSTART:20251026T010000
END:STANDARD
BEGIN:DAYLIGHT
TZOFFSETFROM:+0100
TZOFFSETTO:+0200
TZNAME:CEST
DTSTART:20260329T010000
END:DAYLIGHT
BEGIN:STANDARD
TZOFFSETFROM:+0200
TZOFFSETTO:+0100
TZNAME:CET
DTSTART:20261025T010000
END:STANDARD
BEGIN:DAYLIGHT
TZOFFSETFROM:+0100
TZOFFSETTO:+0200
TZNAME:CEST
DTSTART:20270328T010000
END:DAYLIGHT
BEGIN:STANDARD
TZOFFSETFROM:+0200
TZOFFSETTO:+0100
TZNAME:CET
DTSTART:20271031T010000
END:STANDARD
END:VTIMEZONE
BEGIN:VEVENT
DTSTART;TZID=Europe/Rome:20260519T113000
DTEND;TZID=Europe/Rome:20260519T123000
DTSTAMP:20260421T061813
CREATED:20260420T100251Z
LAST-MODIFIED:20260420T213543Z
UID:12842-1779190200-1779193800@biopmed.eu
SUMMARY:ACN - Autoimpiego Centro Nord: incentivi per under 35 che avviano un'impresa
DESCRIPTION:Il webinar offre una panoramica sull’incentivo ACN – Autoimpiego Centro Nord\, promosso da Invitalia\, dedicato agli under 35 che intendono avviare un’attività imprenditoriale o professionale nelle regioni del Centro-Nord. Durante l’incontro verranno illustrati requisiti di accesso\, tipologie di agevolazioni\, criteri di valutazione e principali aspetti della gestione del finanziamento. Sarà inoltre previsto uno spazio di confronto diretto con gli esperti e la possibilità di prenotare incontri one-to-one per valutare la finanziabilità del proprio progetto.\nRegistrati\nObiettivi\nBioindustry Park\, in collaborazione con Sistema Invitalia Startup\, promuove un incontro informativo dedicato a ACN – Autoimpiego Centro Nord\, l’incentivo rivolto agli under 35 che intendono avviare un’attività imprenditoriale\, professionale o autonoma nelle regioni Centro-Nord Italia. \nA chi si rivolge\nL’incontro online nasce con l’obiettivo di offrire ai partecipanti un’occasione concreta di approfondimento su una misura pensata per sostenere l’avvio di nuove attività imprenditoriali. \nL’incentivo si rivolge agli under 35 disoccupati\, inoccupati\, inattivi e lavoratori con redditi bassi (working poor)\, iscritti al programma GOL. Il webinar è aperto anche a startup già costituite e/o esperti di settore che possono partecipare come soci di minoranza nella compagine proponente. \nCosa impariamo dal webinar\nNel corso dell’evento sarà possibile conoscere più da vicino finalità e opportunità dell’incentivo ACN – Autoimpiego centro nord: requisiti per accedere\, cosa finanzia e le agevolazioni previste\, i criteri di valutazione e cenni sulla fase di rendicontazione\, una volta ammessi. Si darà ampio spazio alla sessione di Domande & risposte per dubbi e chiarimenti. \nA fine presentazione\, rimarrà aperta una sessione dedicata alla prenotazione di incontri one-to-one con gli esperti di Invitalia. Questa opportunità permetterà di valutare la finanziabilità del proprio progetto d’impresa con l’incentivo ACN o altri strumenti gestiti da Invitalia per la creazione di nuove attività imprenditoriali. \nProgramma\n Saluti introduttivi \nPresentazione di ACN – Autoimpiego centro nord \n\nDaniele De Angelis\, Invitalia\nRaffaella Terenzi\,  Invitalia\nQ&A\n\nIncontri con gli esperti e networking \n\nIncontri one to one con gli esperti di Invitalia\n\nDurata del webinar: 1 ora + 1 ora di sessione 1 to 1 se prenotata  \nDocenti \n\nDaniele De Angelis\, senior business development\nRaffaella Terenzi\, senior business development\n\nRegistrati
URL:https://biopmed.eu/evento/acn-autoimpiego-centro-nord-incentivi-per-under-35-che-avviano-unimpresa/
LOCATION:Online
CATEGORIES:Eventi bioPmed
ATTACH;FMTTYPE=image/png:https://biopmed.eu/wp-content/uploads/2026/04/WebinarbioPmed-47.png
END:VEVENT
BEGIN:VEVENT
DTSTART;TZID=Europe/Rome:20260526T113000
DTEND;TZID=Europe/Rome:20260526T123000
DTSTAMP:20260421T061813
CREATED:20260414T155451Z
LAST-MODIFIED:20260420T100331Z
UID:12840-1779795000-1779798600@biopmed.eu
SUMMARY:Il futuro di MDR e IVDR: nuove proposte di revisione
DESCRIPTION:Il webinar offre una panoramica aggiornata sull’evoluzione dei Regolamenti europei MDR (UE) 2017/745 e IVDR (UE) 2017/746\, analizzando le principali criticità emerse nella loro applicazione e le proposte di revisione attualmente in discussione a livello europeo.\nDurante l’incontro verranno approfonditi gli impatti regolatori per i fabbricanti di dispositivi medici e diagnostici in vitro e presentate indicazioni operative per adattare le strategie di conformità in un contesto normativo in continua evoluzione.\nRegistrati\nObiettivi\nIl webinar ha l’obiettivo di fornire una panoramica aggiornata sull’evoluzione dei Regolamenti europei MDR (UE) 2017/745 e IVDR (UE) 2017/746\, analizzando le criticità emerse nella loro applicazione e le principali proposte di revisione attualmente discusse a livello europeo. Durante l’incontro verranno illustrati gli impatti regolatori per i fabbricanti di dispositivi medici e diagnostici in vitro e saranno presentate possibili strategie operative per affrontare il contesto\nnormativo in evoluzione. \nA chi si rivolge\nIl webinar è rivolto a: \n\nfabbricanti di dispositivi medici e diagnostici in vitro;\nresponsabili Regulatory Affairs e Quality Assurance;\nprofessionisti coinvolti nei processi di conformità normativa;\nresponsabili di sviluppo prodotto e affari clinici.\n\nCosa impariamo dal corso\nAl termine del webinar i partecipanti avranno acquisito: \n\nuna comprensione delle principali criticità emerse nell’implementazione di MDR e IVDR;\nuna panoramica delle proposte di revisione discusse a livello europeo;\nconsapevolezza degli impatti regolatori per i fabbricanti;\nindicazioni operative per adattare le strategie regolatorie e di conformità;\nuna visione dei possibili scenari futuri del quadro normativo europeo.\n\nProgramma\nMDR e IVDR: stato dell’arte e prospettive di evoluzione \n\nLe novità: Le ultime proposte di revisione discusse a Bruxelles.\nLe sfide: Le criticità applicative che stanno cambiando il mercato.\nLe soluzioni: Strategie pratiche per i fabbricanti per navigare l’evoluzione normativa senza errori.\n\nInformazioni e vantaggi  \nIl webinar offre un aggiornamento sintetico ma completo sull’evoluzione del quadro regolatorio europeo dei dispositivi medici e diagnostici in vitro. \nPartecipare consente di comprendere meglio i cambiamenti in discussione a livello europeo e di valutare in anticipo le possibili implicazioni per le strategie regolatorie\, di conformità e di sviluppo prodotto delle aziende del settore. \nDocente \nAlessandra Iavello\, PhD ed European Registered Toxicologist (ERT)\, ricopre il ruolo di Head of Medical Device and Cosmetic Business Unit in Chemsafe Srl. Vanta una solida esperienza nel supporto regolatorio ai fabbricanti per l’implementazione dei regolamenti UE 2017/745 (MDR) e 2017/746 (IVDR)\, con focus specifico su valutazioni cliniche\, sicurezza tossicologica e analisi dei rischi. È membro attivo di AFI e SITOX e speaker in contesti scientifici nazionali. \nRegistrati
URL:https://biopmed.eu/evento/il-futuro-di-mdr-e-ivdr-nuove-proposte-di-revisione/
LOCATION:Online
CATEGORIES:Eventi bioPmed
ATTACH;FMTTYPE=image/png:https://biopmed.eu/wp-content/uploads/2026/04/WebinarbioPmed-46.png
END:VEVENT
BEGIN:VEVENT
DTSTART;VALUE=DATE:20261210
DTEND;VALUE=DATE:20261212
DTSTAMP:20260421T061813
CREATED:20250325T210120Z
LAST-MODIFIED:20260325T204959Z
UID:12263-1796860800-1797033599@biopmed.eu
SUMMARY:BioFIT e MedFIT 2026
DESCRIPTION:Siamo felici di annunciare la partnership tra bioPmed ed EuraSanté per promuovere la partecipazione a due importanti eventi europei dedicati all’innovazione nei settori Life Sciences\, MedTech\, Diagnostica e Digital Health: BioFIT e MedFIT\, in programma a Marsiglia il 10 e 11 dicembre 2026. \nPerché partecipare\n\nOpportunità di collaborazione strategica\nConferenze ispirazionali\nArea espositiva\nPresentazioni di progetti innovativi\nMatchmaking e incontri B2B\n\nVantaggi per i soci\nGrazie alla nostra partnership\, possiamo offrire ai soci e al nostro network tariffe agevolate sui Full Pass e sugli stand espositivi valide per iscrizioni effettuate prima del periodo di “late registration”. Questa scontistica non è cumulabile con altre offerte. \nPer ricevere il tuo codice sconto riservato\, contatta anro@bioindustrypark.it.\nPoi registrati direttamente sul sito: 🔗 https://www.biofit-event.com/registration-fees/. \nPITCHING SESSION: visibilità per progetti innovativi\nCon BioFIT e MedFIT  hai l’occasione di conoscere la tua realtà nel contesto europeo dell’innovazione. Se hai un progetto interessante\, partecipa alle pitching session e presentalo davanti a investitori\, esperti del settore e player internazionali. \nLa scadenza per candidarsi alle pitching session è il 17 settembre 2026.\n➡️ Tutti i dettagli e il modulo di candidatura sono disponibili qui: \n\nDettagli BioFIT\nDettagli MedFIT
URL:https://biopmed.eu/evento/biofit-e-medfit-2026/
LOCATION:Marseille\, Marsiglia\, Francia
CATEGORIES:Altri eventi
ATTACH;FMTTYPE=image/png:https://biopmed.eu/wp-content/uploads/2025/03/biofitmedfit.png
END:VEVENT
END:VCALENDAR